BEGIN:VCALENDAR
VERSION:2.0
PRODID:-//Tukios.com/
BEGIN:VEVENT
UID:0b991a84-8bc5-4b41-835a-de640e17e315@www.brosmer-kemplefuneralhome.com
DTSTAMP:20260419T131002Z
DTSTART:20260419T160000Z
DTEND:20260419T170000Z
SUMMARY:Visitation
DESCRIPTION:
URL:https://www.brosmer-kemplefuneralhome.com/obituaries/norma-jacobs
LOCATION:Brosmer-Kemple Funeral Home 9640 West State Road 56  French Lick 
	IN 47432
GEO:38.5344448;-86.6385538
END:VEVENT
END:VCALENDAR